BEGIN:VCALENDAR
VERSION:2.0
PRODID:-//Plone.org//NONSGML plone.app.event//EN
X-WR-TIMEZONE:Europe/Rome
BEGIN:VEVENT
SUMMARY:Prenota ingresso alla Torre Ghirlandina
DTSTART;VALUE=DATE:20210506
DTEND;VALUE=DATE:20210507
DTSTAMP;VALUE=DATE-TIME:20260421T145209Z
UID:1744bf1d5b67433e8669e1b5f26a9f78@staging.visitmodena.it
CATEGORIES:APPPrenotaIT,ESPERIENZE MEZZA GIORNATA,FINO A 10 EURO,PER COPPI
 E,PER CHI VIAGGIA PER LAVORO,VIAGGIO PER LAVORO,APPVisiteGuidateIT,VISITEU
 NESCO,itinerariEventi,NOTTE MUSEI,FARID,TRAVELIZATION,GORDON,FEDERCHICCA,F
 ERRAGOSTO
CONTACT:0592032660\, info@visitmodena.it
CREATED;VALUE=DATE-TIME:20210426T090821Z
DESCRIPTION:La torre è visitabile solo con prenotazione dell'orario di in
 gresso.
LAST-MODIFIED;VALUE=DATE-TIME:20220808T102811Z
URL:https://staging.visitmodena.it/api/it/esperienze/esperienze-artecultur
 a/prenota-ingresso-alla-torre-ghirlandina/2021-05-06
END:VEVENT
END:VCALENDAR
